BEGIN:VCALENDAR
VERSION:2.0
PRODID:-// - ECPv6.5.1.5//NONSGML v1.0//EN
CALSCALE:GREGORIAN
METHOD:PUBLISH
X-ORIGINAL-URL:https://mariadelcarmenramos.es
X-WR-CALDESC:Eventos para 
REFRESH-INTERVAL;VALUE=DURATION:PT1H
X-Robots-Tag:noindex
X-PUBLISHED-TTL:PT1H
BEGIN:VTIMEZONE
TZID:UTC
BEGIN:STANDARD
TZOFFSETFROM:+0000
TZOFFSETTO:+0000
TZNAME:UTC
DTSTART:20240101T000000
END:STANDARD
END:VTIMEZONE
BEGIN:VEVENT
DTSTART;TZID=UTC:20241012T110000
DTEND;TZID=UTC:20241012T120000
DTSTAMP:20260420T163906
CREATED:20241001T120532Z
LAST-MODIFIED:20241002T100732Z
UID:3363-1728730800-1728734400@mariadelcarmenramos.es
SUMMARY:Taller de arteterapia\, potencia tu creatividad
DESCRIPTION:Hola amig@s! ¿Estás buscando una forma creativa de explorar tus emociones y liberar tu mente? ¡Entonces este taller es para ti! Acompáñanos el sábado 12 de octubre de 2024 a las 11:00 en El Pinar\, Avinguda de Ferrandis Salvador\, El Grao de Castellón\, Castellón\, Spain para sumergirte en el maravilloso mundo del arte y la terapia. A través de diferentes actividades artísticas\, aprenderás a expresarte de forma única y a conectar con tu interior. ¡No te lo pierdas! ¡Potencia tu curiosidad y descubre todo lo que puedes lograr! \nTemario:  \n\nFortalecer lazos\nConectar con tu niño interior\nDescubrirte\n\n 
URL:https://mariadelcarmenramos.es/event/taller-de-arteterapia-potencia-tu-creatividad
LOCATION:El parque el Pinar\, Castellon\, 12100\, España
ATTACH;FMTTYPE=image/png:https://mariadelcarmenramos.es/wp-content/uploads/2024/10/Captura-de-pantalla-2024-10-02-a-las-11.46.57.png
END:VEVENT
END:VCALENDAR